BEGIN:VCALENDAR
VERSION:2.0
PRODID:-//NEIGB - ECPv4.9.4//NONSGML v1.0//EN
CALSCALE:GREGORIAN
METHOD:PUBLISH
X-WR-CALNAME:NEIGB
X-ORIGINAL-URL:https://neigb.edu.lb
X-WR-CALDESC:Events for NEIGB
BEGIN:VTIMEZONE
TZID:"Europe/Helsinki"
BEGIN:DAYLIGHT
TZOFFSETFROM:+0200
TZOFFSETTO:+0300
TZNAME:EEST
DTSTART:20220327T010000
END:DAYLIGHT
BEGIN:STANDARD
TZOFFSETFROM:+0300
TZOFFSETTO:+0200
TZNAME:EET
DTSTART:20221030T010000
END:STANDARD
END:VTIMEZONE
BEGIN:VEVENT
DTSTART;TZID="Europe/Helsinki":20221224T000000
DTEND;TZID="Europe/Helsinki":20221224T000000
DTSTAMP:20260426T001913
CREATED:20230228T101027Z
LAST-MODIFIED:20230228T101027Z
UID:15981-1671840000-1671840000@neigb.edu.lb
SUMMARY:Christmas and New Year's vacation Starts
DESCRIPTION:\n\n	\n
URL:https://neigb.edu.lb/event/christmas-and-new-years-vacation-starts/
END:VEVENT
END:VCALENDAR