BEGIN:VCALENDAR
VERSION:2.0
PRODID:-//NEIGB - ECPv4.9.4//NONSGML v1.0//EN
CALSCALE:GREGORIAN
METHOD:PUBLISH
X-WR-CALNAME:NEIGB
X-ORIGINAL-URL:https://neigb.edu.lb
X-WR-CALDESC:Events for NEIGB
BEGIN:VTIMEZONE
TZID:"Europe/Helsinki"
BEGIN:DAYLIGHT
TZOFFSETFROM:+0200
TZOFFSETTO:+0300
TZNAME:EEST
DTSTART:20230326T010000
END:DAYLIGHT
BEGIN:STANDARD
TZOFFSETFROM:+0300
TZOFFSETTO:+0200
TZNAME:EET
DTSTART:20231029T010000
END:STANDARD
END:VTIMEZONE
BEGIN:VEVENT
DTSTART;TZID="Europe/Helsinki":20230123T000000
DTEND;TZID="Europe/Helsinki":20230123T000000
DTSTAMP:20260425T210549
CREATED:20230228T101028Z
LAST-MODIFIED:20230228T101028Z
UID:15983-1674432000-1674432000@neigb.edu.lb
SUMMARY:Fall semester Exams
DESCRIPTION:\n\n	\n
URL:https://neigb.edu.lb/event/fall-semester-exams/
END:VEVENT
END:VCALENDAR