BEGIN:VCALENDAR
VERSION:2.0
PRODID:-//NEIGB - ECPv4.9.4//NONSGML v1.0//EN
CALSCALE:GREGORIAN
METHOD:PUBLISH
X-WR-CALNAME:NEIGB
X-ORIGINAL-URL:https://neigb.edu.lb
X-WR-CALDESC:Events for NEIGB
BEGIN:VTIMEZONE
TZID:"Europe/Helsinki"
BEGIN:DAYLIGHT
TZOFFSETFROM:+0200
TZOFFSETTO:+0300
TZNAME:EEST
DTSTART:20190331T010000
END:DAYLIGHT
BEGIN:STANDARD
TZOFFSETFROM:+0300
TZOFFSETTO:+0200
TZNAME:EET
DTSTART:20191027T010000
END:STANDARD
END:VTIMEZONE
BEGIN:VEVENT
DTSTART;TZID="Europe/Helsinki":20190918T073000
DTEND;TZID="Europe/Helsinki":20190918T143000
DTSTAMP:20260422T091557
CREATED:20190704T060124Z
LAST-MODIFIED:20190710T070055Z
UID:8298-1568791800-1568817000@neigb.edu.lb
SUMMARY:All Classes From KG 3 till Gr. 11 & All American System Classes
DESCRIPTION:
URL:https://neigb.edu.lb/event/all-classes-from-kg-3-till-gr-11-all-american-system-classes/
CATEGORIES:Back to School
END:VEVENT
END:VCALENDAR