BEGIN:VCALENDAR
VERSION:2.0
PRODID:-//NEIGB - ECPv4.9.4//NONSGML v1.0//EN
CALSCALE:GREGORIAN
METHOD:PUBLISH
X-WR-CALNAME:NEIGB
X-ORIGINAL-URL:https://neigb.edu.lb
X-WR-CALDESC:Events for NEIGB
BEGIN:VTIMEZONE
TZID:"Europe/Helsinki"
BEGIN:DAYLIGHT
TZOFFSETFROM:+0200
TZOFFSETTO:+0300
TZNAME:EEST
DTSTART:20220327T010000
END:DAYLIGHT
BEGIN:STANDARD
TZOFFSETFROM:+0300
TZOFFSETTO:+0200
TZNAME:EET
DTSTART:20221030T010000
END:STANDARD
END:VTIMEZONE
BEGIN:VEVENT
DTSTART;TZID="Europe/Helsinki":20220106T000000
DTEND;TZID="Europe/Helsinki":20220106T000000
DTSTAMP:20260426T004302
CREATED:20211130T062402Z
LAST-MODIFIED:20211130T062402Z
UID:11808-1641427200-1641427200@neigb.edu.lb
SUMMARY:Armenian Christmas
DESCRIPTION:
URL:https://neigb.edu.lb/event/armenian-christmas-2/
END:VEVENT
END:VCALENDAR